BEGIN:VCALENDAR
VERSION:2.0
PRODID:-//hacksw/handcal//NONSGML v1.0//EN
BEGIN:VEVENT
DTSTAMP:20210218T180000Z
DTSTART:20210218T180000Z
DTEND:20210218T193000Z
SUMMARY:"Digitalkonferenz "Klimaschutz, Umwelt- und Naturschutz in Bad Orb"
END:VEVENT
END:VCALENDAR
