BEGIN:VCALENDAR
VERSION:2.0
PRODID:-//hacksw/handcal//NONSGML v1.0//EN
BEGIN:VEVENT
DTSTAMP:20210225T180000Z
DTSTART:20210225T180000Z
DTEND:20210225T193000Z
SUMMARY:+++Digitalkonferenz mit Herrn Landtagsabgeordneten Michael Reul+++
END:VEVENT
END:VCALENDAR
