BEGIN:VCALENDAR
VERSION:2.0
PRODID:-//hacksw/handcal//NONSGML v1.0//EN
BEGIN:VEVENT
DTSTAMP:20210304T180000Z
DTSTART:20210304T180000Z
DTEND:20210304T193000Z
SUMMARY:+++Digitalkonferenz "Tourismus & Gesundheitsstandort Bad Orb+++
END:VEVENT
END:VCALENDAR
