BEGIN:VCALENDAR
VERSION:2.0
PRODID:-//hacksw/handcal//NONSGML v1.0//EN
BEGIN:VEVENT
DTSTAMP:20210311T180000Z
DTSTART:20210311T180000Z
DTEND:20210311T193000Z
SUMMARY:+++Digitalkonferenz "Bad Orb familienfreundlich+++
END:VEVENT
END:VCALENDAR
